BEGIN:VCALENDAR
VERSION:2.0
PRODID:-//goldfish9c221599.brizy.site//NONSGML kigkonsult.se iCalcreator 2.
 39.1//
CALSCALE:GREGORIAN
METHOD:PUBLISH
UID:51e04783-a1e0-4f3c-aec5-73cde74c4e7a
X-WR-CALNAME:goldfish9c221599.brizy.site
X-WR-CALDESC:goldfish9c221599.brizy.site
X-WR-TIMEZONE:America/Los_Angeles
X-LIC-LOCATION:America/Los_Angeles
BEGIN:VEVENT
UID:b5124d08-5898-4370-91cd-8b89990a3177
DTSTAMP:20260422T184704Z
CLASS:PUBLIC
DTSTART;TZID=America/Los_Angeles:20260422T180000
DTEND;TZID=America/Los_Angeles:20260422T193000
SUMMARY:Awana
TRANSP:OPAQUE
BEGIN:VALARM
ACTION:DISPLAY
DESCRIPTION:Awana
TRIGGER:-PT15M
END:VALARM
END:VEVENT
END:VCALENDAR
